BEGIN:VCALENDAR
VERSION:2.0
PRODID:-//wp-events-plugin.com//7.0.5//EN
BEGIN:VEVENT
UID:139@simef.it
DTSTART:20260327T140000Z
DTEND:20260327T170000Z
DTSTAMP:20260220T090520Z
URL:https://www.simef.it/events/dalla-ricerca-allaccesso-il-ciclo-di-vita-
 del-farmaco/
SUMMARY:Dalla ricerca all’accesso: il ciclo di vita del farmaco
DESCRIPTION:LOCANDINA + PROGRAMMA \n\nAl via le iscrizioni al ciclo di webi
 nar “Dalla ricerca all’accesso: il ciclo di vita del farmaco”\, il p
 ercorso formativo congiunto SIMeF ETS - Società Italiana di Medicina Farm
 aceutica ETS – Società Italiana di Farmacologia - SIF dedicato a giovan
 i professionisti che vogliono seguire tutte le fasi dello sviluppo di un f
 armaco.\n\n4 webinar online | 14.00–17.00\n\nDalla ricerca preclinica fi
 no ad accesso e HTA.\n\n&#x2714\; gratuito per i soci SIMeF e SIF\n\n&#x27
 14\; 100€ + IVA per i non soci\n\n&#x2714\; attestato per ogni modulo (8
 0% frequenza)\n\nPosti limitati.\n\nPer info e iscrizioni: https://lnkd.in
 /djsWZysd
ATTACH;FMTTYPE=image/jpeg:https://www.simef.it/wp-content/uploads/2026/02/
 GIOVANI-SIF-SIMeF-Volantino-V6_1-scaled.jpg
CATEGORIES:2026,SIMeF Giovani,Webinar
END:VEVENT
END:VCALENDAR