BEGIN:VCALENDAR
VERSION:2.0
PRODID:-//wp-events-plugin.com//7.0.5//EN
BEGIN:VEVENT
UID:141@simef.it
DTSTART:20260324T000000Z
DTEND:20261231T000000Z
DTSTAMP:20260325T120344Z
URL:https://www.simef.it/events/clinical-trial-center-on-boarding/
SUMMARY:Clinical Trial Center On-boarding
DESCRIPTION:Il progetto Clinical Trial Center Onboarding\, promosso da SIMe
 F\, è un percorso introduttivo alla ricerca clinica che offre strumenti p
 ratici per comprendere il funzionamento degli studi clinici e il ruolo del
  Clinical Trial Center. È strutturato in moduli brevi e concreti che copr
 ono tutte le fasi dello studio\, dalla Feasibility alla visita di chiusura
 .\n\nINFORMAZIONI GENERALI\n\nQuota di partecipazione:\n\n• Quota per S
 oci SIMeF:  GRATUITO obbligatoria la registrazione\n• Quota per non So
 ci : Euro 100\,00 + IVA 22%\nIl saldo della quota dovrà essere effettuato
  al momento dell'iscrizione e dovrà essere inviata copia contabile in seg
 reteria che comunicherà via e-mail la conferma dell’iscrizione.\n&nbsp\
 ;\n\nPer ulteriori informazioni\, contatta la Segreteria Organizzativa.\n\
 n&nbsp\;\n\nLINK PER LE ISCRIZIONI SOCI\n\nLINK PER LE ISCRIZIONI NON SO
 CI\n\n&nbsp\;\n\nAllegato: Locandina
ATTACH;FMTTYPE=image/jpeg:https://www.simef.it/wp-content/uploads/2026/03/
 Screenshot-2026-03-24-165707.png
CATEGORIES:2026
END:VEVENT
END:VCALENDAR